BEGIN:VCALENDAR
VERSION:2.0
PRODID:-//Shri Bhakta Anjaneya Temple, San Diego - ECPv6.15.20//NONSGML v1.0//EN
CALSCALE:GREGORIAN
METHOD:PUBLISH
X-WR-CALNAME:Shri Bhakta Anjaneya Temple, San Diego
X-ORIGINAL-URL:https://sbatsd.org
X-WR-CALDESC:Events for Shri Bhakta Anjaneya Temple, San Diego
REFRESH-INTERVAL;VALUE=DURATION:PT1H
X-Robots-Tag:noindex
X-PUBLISHED-TTL:PT1H
BEGIN:VTIMEZONE
TZID:America/Denver
BEGIN:DAYLIGHT
TZOFFSETFROM:-0700
TZOFFSETTO:-0600
TZNAME:MDT
DTSTART:20240310T090000
END:DAYLIGHT
BEGIN:STANDARD
TZOFFSETFROM:-0600
TZOFFSETTO:-0700
TZNAME:MST
DTSTART:20241103T080000
END:STANDARD
BEGIN:DAYLIGHT
TZOFFSETFROM:-0700
TZOFFSETTO:-0600
TZNAME:MDT
DTSTART:20250309T090000
END:DAYLIGHT
BEGIN:STANDARD
TZOFFSETFROM:-0600
TZOFFSETTO:-0700
TZNAME:MST
DTSTART:20251102T080000
END:STANDARD
BEGIN:DAYLIGHT
TZOFFSETFROM:-0700
TZOFFSETTO:-0600
TZNAME:MDT
DTSTART:20260308T090000
END:DAYLIGHT
BEGIN:STANDARD
TZOFFSETFROM:-0600
TZOFFSETTO:-0700
TZNAME:MST
DTSTART:20261101T080000
END:STANDARD
END:VTIMEZONE
BEGIN:VEVENT
DTSTART;TZID=America/Denver:20250907T093000
DTEND;TZID=America/Denver:20250907T210000
DTSTAMP:20260423T032129
CREATED:20250902T025527Z
LAST-MODIFIED:20260306T144439Z
UID:1257-1757237400-1757278800@sbatsd.org
SUMMARY:Ganesha Visarjan
DESCRIPTION:
URL:https://sbatsd.org/event/visarjan/
LOCATION:Shri Bhaktha Anjaneya Temple\, 9265\, Activity Rd\, Suite #110\, San Diego\, CA\, 92126\, United States
CATEGORIES:Events
ATTACH;FMTTYPE=image/jpeg:https://sbatsd.org/wp-content/uploads/2025/09/WhatsAppXImageX2025-08-30XatX1.34X.49XPMX.jpeg
ORGANIZER;CN="Veda Geetha Foundation":MAILTO:sbatsd@gmail.com
END:VEVENT
END:VCALENDAR